BEGIN:VCALENDAR
VERSION:2.0
PRODID:-//wp-events-plugin.com//7.2.3.1//EN
TZID:America/Chicago
X-WR-TIMEZONE:America/Chicago
BEGIN:VEVENT
UID:457@bsatroop120.com
DTSTART;TZID=America/Chicago;VALUE=DATE:20200801
DTEND;TZID=America/Chicago;VALUE=DATE:20200901
DTSTAMP:20200611T075034Z
URL:http://bsatroop120.com/events/august-annual-troop-planning-date-to-be-
 anncounced/
SUMMARY:August Annual Troop Planning\, Date To Be Anncounced
DESCRIPTION:This Is when we plan out our entire 2020-2021 Troop 120 events
CATEGORIES:Special Events
END:VEVENT
BEGIN:VTIMEZONE
TZID:America/Chicago
X-LIC-LOCATION:America/Chicago
BEGIN:DAYLIGHT
DTSTART:20200308T030000
TZOFFSETFROM:-0600
TZOFFSETTO:-0500
TZNAME:CDT
END:DAYLIGHT
END:VTIMEZONE
END:VCALENDAR