BEGIN:VCALENDAR
VERSION:2.0
PRODID:-//wp-events-plugin.com//7.2.3.1//EN
TZID:America/Chicago
X-WR-TIMEZONE:America/Chicago
BEGIN:VEVENT
UID:677@bsatroop120.com
DTSTART;TZID=America/Chicago:20240408T190000
DTEND;TZID=America/Chicago:20240408T203000
DTSTAMP:20240406T160459Z
URL:http://bsatroop120.com/events/april-committee-meeting/
SUMMARY:April Committee Meeting
DESCRIPTION:Please join us at our monthly committee meeting. See what we ar
 e planning\, and voice your ideas.\n\n&nbsp\;
CATEGORIES:Monthly Committee Meetings
LOCATION:Deerfield Rec. Center\, 4045 Deerfield Village Drive\, Houston\, T
 X\, 77084\, United States
X-APPLE-STRUCTURED-LOCATION;VALUE=URI;X-ADDRESS=4045 Deerfield Village Driv
 e\, Houston\, TX\, 77084\, United States;X-APPLE-RADIUS=100;X-TITLE=Deerfi
 eld Rec. Center:geo:0,0
END:VEVENT
BEGIN:VTIMEZONE
TZID:America/Chicago
X-LIC-LOCATION:America/Chicago
BEGIN:DAYLIGHT
DTSTART:20240310T030000
TZOFFSETFROM:-0600
TZOFFSETTO:-0500
TZNAME:CDT
END:DAYLIGHT
END:VTIMEZONE
END:VCALENDAR