BEGIN:VCALENDAR
VERSION:2.0
PRODID:-//wp-events-plugin.com//7.2.3.1//EN
TZID:America/Chicago
X-WR-TIMEZONE:America/Chicago
BEGIN:VEVENT
UID:212@bsatroop120.com
DTSTART;TZID=America/Chicago;VALUE=DATE:20160318
DTEND;TZID=America/Chicago;VALUE=DATE:20160321
DTSTAMP:20160217T170042Z
URL:http://bsatroop120.com/events/angel-fire-ranch/
SUMMARY:Angel Fire Ranch
DESCRIPTION:Archery\, Orienteering\, &amp\; Trebuche\n\nLeave Deerfield at 
 4:30PM (3 hours)\n\nFor Directions Click here\n\n[eyesonly level="administ
 rator\, adult_leader"]\nView this booking\n[/eyesonly]
CATEGORIES:Monthly Campouts
LOCATION:Angel Fire\, 219 CR 343\, Marble Falls\, TX\, 78654\, United State
 s
GEO:30.5665017;-98.18232410000002
X-APPLE-STRUCTURED-LOCATION;VALUE=URI;X-ADDRESS=219 CR 343\, Marble Falls\,
  TX\, 78654\, United States;X-APPLE-RADIUS=100;X-TITLE=Angel Fire:geo:30.5
 665017,-98.18232410000002
END:VEVENT
BEGIN:VTIMEZONE
TZID:America/Chicago
X-LIC-LOCATION:America/Chicago
BEGIN:DAYLIGHT
DTSTART:20160313T030000
TZOFFSETFROM:-0600
TZOFFSETTO:-0500
TZNAME:CDT
END:DAYLIGHT
END:VTIMEZONE
END:VCALENDAR