BEGIN:VCALENDAR
VERSION:2.0
PRODID:-//wp-events-plugin.com//7.2.3.1//EN
TZID:America/Chicago
X-WR-TIMEZONE:America/Chicago
BEGIN:VEVENT
UID:461@bsatroop120.com
DTSTART;TZID=America/Chicago;VALUE=DATE:20201204
DTEND;TZID=America/Chicago;VALUE=DATE:20201207
DTSTAMP:20200905T202425Z
URL:http://bsatroop120.com/events/aaronsons-campout-2/
SUMMARY:Aaronsons Campout
DESCRIPTION:#_ATTENDEESLIST
CATEGORIES:Monthly Campouts
LOCATION:Aaronsons Property\, 2148 County Road 252\, Anderson\, Texas\, 778
 30\, United States
GEO:30.49389519999999;-96.03962890000003
X-APPLE-STRUCTURED-LOCATION;VALUE=URI;X-ADDRESS=2148 County Road 252\, Ande
 rson\, Texas\, 77830\, United States;X-APPLE-RADIUS=100;X-TITLE=Aaronsons 
 Property:geo:30.49389519999999,-96.03962890000003
END:VEVENT
BEGIN:VTIMEZONE
TZID:America/Chicago
X-LIC-LOCATION:America/Chicago
BEGIN:STANDARD
DTSTART:20201101T010000
TZOFFSETFROM:-0500
TZOFFSETTO:-0600
TZNAME:CST
END:STANDARD
END:VTIMEZONE
END:VCALENDAR