BEGIN:VCALENDAR
VERSION:2.0
PRODID:-//wp-events-plugin.com//7.2.3.1//EN
TZID:America/Chicago
X-WR-TIMEZONE:America/Chicago
BEGIN:VEVENT
UID:337@bsatroop120.com
DTSTART;TZID=America/Chicago;VALUE=DATE:20170618
DTEND;TZID=America/Chicago;VALUE=DATE:20170625
DTSTAMP:20170403T164823Z
URL:http://bsatroop120.com/events/2017-summer-merit-badge-camp/
SUMMARY:2017 Summer Merit Badge Camp
DESCRIPTION:\n\nCheck out the promo video! https://www.youtube.com/watch?v
 =gR2O2_jgdE8\n\nSince 1957\, Bear Creek Scout Reservation has been a summe
 r home to thousands of Scouts. Providing unforgettable camping memories\, 
 Bear Creek has afforded many boys their first opportunity to experience se
 lf reliance in a beautiful natural setting in the Texas Hill Country. Plea
 se review our 2016 Leaders' Guide to discover the multitude of opportuniti
 es available for long term summer camping. Reserve your Troop campsite at 
 Bear Creek.\n\nThe Ranger Program is designed for first year campers\, te
 aching basic skills\, while allowing the camper to get off and running on 
 the requirements for Tenderfoot\, Second Class and First Class ranks.\n\nM
 erit Badges cover aquatics\, ecology\, field sports\, handicrafts\, and Sc
 out skills. Some preparation is recommended and best done before camp to e
 nsure the ability to complete certain merit badges.\n\nOlder Scout Program
 : Bear Creek is famous for offering challenging programs for older Scouts.
  The C.O.P.E. course is a well-rounded\, fun program with low and high ele
 ment activities (confidence building and group dynamic team challenges). A
 lso available are mountain biking\, rappelling\, rock climbing\, black pow
 der rifle and canoeing on the Guadalupe River. An additional fee will be c
 harged for some of these programs.\n\nBear Creek is divided into two secti
 ons. Troops who want to make use of the dining hall for their meal\, camp 
 on the Friedrich side. Three meals are provided daily except Wednesday nig
 ht when troops will be provided food to prepare and eat at their campsites
 .\n\nTroops who wish to experience patrol cooking\, camp on the Rickenback
 er side. Units bring their own food and prepare it at the campsites. Refri
 geration and freezer space is provided. Ice is sold at the Trading Post.
ATTACH;FMTTYPE=image/jpeg:http://bsatroop120.com/wp-content/uploads/2017/0
 1/BCSR-1.png
CATEGORIES:MB Camp,Merit Badge Opportunity
LOCATION:Bear Creak Scout Reservation\, 125 Bear Creak Scout Rd\, Hunt\, TX
 \, 78024\, United States
GEO:30.058739;-99.41722600000003
X-APPLE-STRUCTURED-LOCATION;VALUE=URI;X-ADDRESS=125 Bear Creak Scout Rd\, H
 unt\, TX\, 78024\, United States;X-APPLE-RADIUS=100;X-TITLE=Bear Creak Sco
 ut Reservation:geo:30.058739,-99.41722600000003
END:VEVENT
BEGIN:VTIMEZONE
TZID:America/Chicago
X-LIC-LOCATION:America/Chicago
BEGIN:DAYLIGHT
DTSTART:20170312T030000
TZOFFSETFROM:-0600
TZOFFSETTO:-0500
TZNAME:CDT
END:DAYLIGHT
END:VTIMEZONE
END:VCALENDAR