BEGIN:VCALENDAR
VERSION:2.0
PRODID:-//wp-events-plugin.com//7.2.3.1//EN
TZID:America/Chicago
X-WR-TIMEZONE:America/Chicago
BEGIN:VEVENT
UID:254@bsatroop120.com
DTSTART;TZID=America/Chicago:20160405T190000
DTEND;TZID=America/Chicago:20160405T200000
DTSTAMP:20160225T020332Z
URL:http://bsatroop120.com/events/2016-summer-merit-badge-camp-parent-meet
 ing/
SUMMARY:2016 Summer Merit Badge Camp Parent Meeting
DESCRIPTION:Required meeting for all parents of scouts attending the Lost B
 ayou Summer camp.  We will be discussing all aspects of the summer camp.\
 n\n
CATEGORIES:MB Camp
LOCATION:Wilson Elementary\, 18015 Kieth Harrow Blvd\, Houston\, TX\, 77084
 \, United States
GEO:29.84743539999999;-95.67661479999998
X-APPLE-STRUCTURED-LOCATION;VALUE=URI;X-ADDRESS=18015 Kieth Harrow Blvd\, H
 ouston\, TX\, 77084\, United States;X-APPLE-RADIUS=100;X-TITLE=Wilson Elem
 entary:geo:29.84743539999999,-95.67661479999998
END:VEVENT
BEGIN:VTIMEZONE
TZID:America/Chicago
X-LIC-LOCATION:America/Chicago
BEGIN:DAYLIGHT
DTSTART:20160313T030000
TZOFFSETFROM:-0600
TZOFFSETTO:-0500
TZNAME:CDT
END:DAYLIGHT
END:VTIMEZONE
END:VCALENDAR